BEGIN:VCALENDAR
VERSION:2.0
PRODID:-//Sail Türkiye Racing - ECPv6.3.6//NONSGML v1.0//EN
CALSCALE:GREGORIAN
METHOD:PUBLISH
X-WR-CALNAME:Sail Türkiye Racing
X-ORIGINAL-URL:https://sailturkiye.racing
X-WR-CALDESC:Sail Türkiye Racing için etkinlikler
REFRESH-INTERVAL;VALUE=DURATION:PT1H
X-Robots-Tag:noindex
X-PUBLISHED-TTL:PT1H
BEGIN:VTIMEZONE
TZID:Europe/Istanbul
BEGIN:STANDARD
TZOFFSETFROM:+0300
TZOFFSETTO:+0300
TZNAME:+03
DTSTART:20260101T000000
END:STANDARD
END:VTIMEZONE
BEGIN:VEVENT
DTSTART;VALUE=DATE:20260423
DTEND;VALUE=DATE:20260426
DTSTAMP:20260425T170448
CREATED:20250901T143220Z
LAST-MODIFIED:20260325T112052Z
UID:28155-1776902400-1777161599@sailturkiye.racing
SUMMARY:2026 Çanakkale Kupası
DESCRIPTION:Cumhurbaşkanlığı 7. Uluslararası Yat Yarışları\n23-25 Nisan 2026 – Çanakkale Kupası ve Sahil Güvenlik Kupası Açıkdeniz Yarışı\nCumhurbaşkanlığı 7. Uluslararası Yat Yarışları Çanakkale Kupası ve Sahil Güvenlik Kupası yarışları 23-25 Nisan 2026 tarihinde gerçekleştirilecektir. \nORC\, Sportsboat\, IRC ve Gezgin sınıflarında;\n23 Nisan İstanbul Boğazı Etabını kendi divizyonunda ilk üçe giren ekiplere Ulusal Egemenlik Kupası ödülü\,\n23-24 Nisan İstanbul – Çanakkale Sahil Güvenlik Kupasını kendi divizyonunda ilk bitiren ekiplere Sahil Güvenlik Line Honours ödülü\,\n3 yarışın overall sonuçlarına göre kendi divizyonunda ilk üçe giren ve Kadın Yelken/Üniversite Yelken Takımı özel kategorilerinde sınıflarında ilk üçe giren ekiplere Çanakkale Kupası ödülü verilecektir. \nÇanakkale Kupası\, 1 İstanbul Boğazı\, 1 İsatnbul – Çanakale Sahil Güvenlik Kupası açık deniz ve 1 Çanakkale Boğazı yarışı ile toplamda 3 yarıştan oluşmaktadır. 23 Nisan Ulusal Egemenlik ve Çocuk Bayramında İstanbul Boğazında gerçekleştirilecek özel yarışa ait ödül töreni ileriki bir tarihte yapılacaktır. 23 Nisan 2026 boğaz yarışının ardından start edecek İstanbul – Çanakkale Açıkdeniz yarışı ve Çanakkale Boğaz yarışı  25 Nisan’da gerçekleştirilecektir. Toplamda 3 yarıştan oluşan seri yarışları tamamlayan ekipler seri yarışlar sonucunda ödüllerini 25 Nisan 2026 Çanakkale’de düzenlenecek özel törende alacaklar. \nİstanbul – Çanakkale Sahil Güvenlik Kupası açık deniz yarışını sınıfında ilk bitiren ekip Sahil Güvenlik Kupası Line Honours ödülünün sahibi olurken yine açık deniz yarışında en iyi düzeltilmiş zamana sahip olan ekip de ödüllendirilecektir. \n23 Nisan 2026 İstanbul Boğazında gerçekleştirilecek yarışta ödül kazanan ekipler ise gelecekteki bir tarihte İstanbul’da düzenlenecek ödül töreninde boğaz etabı sonuçlarına göre belirlenecek Ulusal Egemenlik Kupasının sahibi olacaklar. \nYarışlar ORC\, IRC\, Sportsboat ve Gezgin sınıfları altında gerçekleştirilecektir (Sportsboat sınıfı açıkdeniz yarışı için açılmayacaktır). Yarışların açık olduğu kategoriler yarış ilanında duyurulacaktır. Yarışlara katılım ön koşulu olarak kayıt veren ekiplerin herhangi bir STK’ya yaptığı en az 5.000 TL tutarındaki bağışın makbuzunu ibraz etmeleri gerekmektedir. Yarışlara ön kayıt veren ekipler özel avantajlardan faydalanabilecekler. Yarış ve organizasyon hakkında daha detaylı bilgilere web sitemizi ve sosyal medya hesaplarımızı takip ederek\, https://bit.ly/cuyy-wa linkinden WhatsApp duyuru grubuna katılarak ulaşabilirsiniz. \nTakvim / Yarış Programı\n\n01 Nisan 2026 – Kayıt Başlangıcı\n20 Nisan 2026 – Kayıtların Kapanışı\n22 Nisan 2026 – Kaptan Toplantısı\n23 Nisan 2026 – İstanbul Boğazı – Ulusal Egemenlik Kupası\n23 Nisan 2026 – İstanbul – Çanakkale Sahil Güvenlik Kupası Açıkdeniz Yarışı\n24 Nisan 2026 – Açıkdeniz Yarışı Finişi\n25 Nisan 2026 – Çanakkale Boğazı Yarışı\n25 Nisan 2026 – Çanakkale Kupası ve Sahil Güvenlik Kupansı Ödül Töreni\n\nYarış ilanı >>
URL:https://sailturkiye.racing/events/2026-canakkale-kupasi/
CATEGORIES:Yarışlar
ATTACH;FMTTYPE=image/jpeg:https://sailturkiye.racing/wp-content/uploads/2024/11/canakkale-min.jpg
END:VEVENT
BEGIN:VEVENT
DTSTART;VALUE=DATE:20260516
DTEND;VALUE=DATE:20260520
DTSTAMP:20260425T170448
CREATED:20250901T144900Z
LAST-MODIFIED:20260325T112913Z
UID:28163-1778889600-1779235199@sailturkiye.racing
SUMMARY:2026 Kurtuluş Kupası
DESCRIPTION:Cumhurbaşkanlığı 7. Uluslararası Yat Yarışları\n17-19 Mayıs 2026 – Kurtuluş Kupası Açıkdeniz Yarışı\nKurtuluş Kupası\, tüm sınıflar için 1 İstanbul Boğazı ve ORC\, IRC\, Sportsboat sınıfları için 3 şamandıra\, gezgin sınıfları için 1 coğrafi yarışından oluşmaktadır. 19 Mayıs 2026 tarihinde 1 adet İstanbul Boğazı\, 17 Mayıs 2026 tarihinde Gezgin sınıfı için 1 adet coğrafi adalar parkuru ve ORC\, IRC ve Sportsboat sınıfı için 3 adet şamandıra yarışı planlanmaktadır. \nORC\, IRC\, Sportsboat\, Gezgin sınıflarında;\nYapılan yarışar üzerinden overall puanına göre kendi divizyonunda ilk üçe giren ekiplere ve Kadın Yelken/Üniversite Yelken Takımı özel kategorilerinde sınıflarında ilk üçe giren ekiplere Kurtuluş Kupası verilecektir. \nYarışlar ORC\, IRC\, Sportsboat ve Gezgin sınıfları altında gerçekleştirilecektir. Yarışların açık olduğu kategoriler yarış ilanında duyurulacaktır. Yarışlara katılım ön koşulu olarak kayıt veren ekiplerin açıkdeniz yarışı teknik komitesinin onayını almalı ve herhangi bir STK’ya yaptığı en az 5.000 TL tutarındaki bağışın makbuzunu ibraz etmeleri gerekmektedir. Yarışlara ön kayıt veren ekipler özel avantajlardan faydalanabilecekler. Yarış ve organizasyon hakkında daha detaylı bilgilere web sitemizi ve sosyal medya hesaplarımızı takip ederek\, https://bit.ly/cuyy-wa linkinden whatsapp duyuru grubuna katılarak ulaşabilirsiniz.  \nTakvim / Yarış Programı\n\n1 Mayıs 2026 – Kayıtların Başlangıcı\n07 Mayıs 2026 – Lansman\n14 Mayıs 2026 – Kayıtların Kapanışı\n15 Mayıs 2026 – Kaptan Toplantısı\n17 Mayıs 2026 – Gezgin Adalar Parkuru Coğrafi Yarış\n17 Mayıs 2026 – ORC sınıfları – Şamandıra Yarışları Caddebostan\n19 Mayıs 2025 – İstanbul Boğazı Etabı\n19 Mayıs 2025 – Kurtuluş Kupası Ödül Töreni\n\nYarış ilanı >>
URL:https://sailturkiye.racing/events/2026-kurtulus-kupasi/
LOCATION:İstanbu Türkiye\, İstanbul Boğazı\, Türkiye
CATEGORIES:Yarışlar
ATTACH;FMTTYPE=image/jpeg:https://sailturkiye.racing/wp-content/uploads/2024/11/samsun.jpg
ORGANIZER;CN="iayk.org":MAILTO:info@iayk.org
END:VEVENT
BEGIN:VEVENT
DTSTART;VALUE=DATE:20260830
DTEND;VALUE=DATE:20260831
DTSTAMP:20260425T170448
CREATED:20250901T145243Z
LAST-MODIFIED:20260325T112034Z
UID:28166-1788048000-1788134399@sailturkiye.racing
SUMMARY:2026 Zafer Kupası
DESCRIPTION:Cumhurbaşkanlığı 7. Uluslararası Yat Yarışları\n30 Ağustos 2026 – Zafer Kupası Yarışı\n30 Ağustos Zafer Kupası\, 1 İstanbul Boğazı yarışından oluşmaktadır. 30 Ağustos 2026 tarihinde 1 adet İstanbul Boğazı yarışı planlanmaktadır. \nZafer Kupası\, 30 Ağustos 2026 tarihinde düzenlenecek İstanbul Boğazı yarışında ORC\, IRC\, Sportsboat ve Gezgin sınıflarında kendi divizyonlarında divizyonunda ilk üçe giren ekipler Zafer Kupası ödülünün sahibi olacaktır. \nYarışlar ORC\, IRC\, Sportsboat ve Gezgin sınıfları altında gerçekleştirilecektir. Yarışların açık olduğu kategoriler yarış ilanında duyurulacaktır. Yarışlara katılım ön koşulu olarak kayıt veren ekiplerin herhangi bir STK’ya 2026 yılı içerisinde yaptığı en az 5.000 TL tutarındaki bağışın makbuzunu ibraz etmeleri gerekmektedir. Yarışlara ön kayıt veren ekipler özel avantajlardan faydalanabilecekler. Yarış ve organizasyon hakkında daha detaylı bilgilere web sitemizi ve sosyal medya hesaplarımızı takip ederek\, https://bit.ly/cuyy-wa linkinden WhatsApp duyuru grubuna katılarak ulaşabilirsiniz. \nTakvim / Yarış Programı\n\n01 Ağustos 2026 – Kayıt Başlangıcı\n28 Ağustos 2026 – Kayıtların Kapanışı\n29 Ağustos 2026 – Kaptan Toplantısı\n30 Ağustos 2026 – İstanbul Boğazı yarışı \n30 Ağustos 2026 – Zafer Kupası Ödül Töreni\n\nRotalar:\nRota kartları ve detaylı bilgi için yayınlanacak yarış ilanlarını takipedebilirsiniz. \nYarış ilanı >>
URL:https://sailturkiye.racing/events/2026-zafer-kupasi/
LOCATION:İstanbu Türkiye\, İstanbul Boğazı\, Türkiye
CATEGORIES:Yarışlar
ATTACH;FMTTYPE=image/webp:https://sailturkiye.racing/wp-content/uploads/2024/04/yat-yarislari-3.webp
ORGANIZER;CN="iayk.org":MAILTO:info@iayk.org
END:VEVENT
BEGIN:VEVENT
DTSTART;VALUE=DATE:20261029
DTEND;VALUE=DATE:20261102
DTSTAMP:20260425T170448
CREATED:20250901T142042Z
LAST-MODIFIED:20260325T112026Z
UID:28150-1793232000-1793577599@sailturkiye.racing
SUMMARY:2026 Cumhuriyet Kupası
DESCRIPTION:Cumhurbaşkanlığı 7. Uluslararası Yat Yarışları\n29 Ekim – 1 Kasım 2026 – Cumhuriyet Kupası Yarışı\nCumhuriyet Kupası\, tüm sınıflar için 1 İstanbul Boğazı ve ORC\, IRC\, Sportsboat sınıfları için 4 şamandıra\, gezgin sınıfları için 2 coğrafi yarışından oluşmaktadır. 29 Ekim 2026 tarihinde 1 adet İstanbul Boğazı\, 31 Ekim ve 1 Kasım 2026 tarihlerinde Gezgin sınıfı için 1 adet coğrafi adalar parkuru ve ORC\, IRC\, Sportsboat sınıfı için 2 adet şamandıra yarışı planlanmaktadır. \nCumhuriyet Kupası\, 29 Ekim 2026 tarihinde düzenlenecek İstanbul Boğazı Fişekhane Etabı ile başlayacak. 29 Ekim İstanbul Boğazı Fişekhane Etabı divizyon birincileri Fişekhane özel ödülünün de sahibi olacaktır. \n\nORC\, IRC\, Sportsboat ve Gezgin sınıflarında kendi divizyonlarında  ilk üçe giren ekiplere ödülleri 1 Kasım 2026 tarihinde İstanbul Fişekhane ‘de yapılacak ödül töreninde verilecektir. İ \nYarışlar ORC\, IRC\, Sportsboat ve Gezgin sınıfları altında gerçekleştirilecektir. Yarışların açık olduğu kategoriler yarış ilanında duyurulacaktır. Yarışlara katılım ön koşulu olarak kayıt veren ekiplerin herhangi bir STK’ya 2026 yılı içerisinde yaptığı en az 5.000 TL tutarındaki bağışın makbuzunu ibraz etmeleri gerekmektedir. Yarışlara ön kayıt veren ekipler özel avantajlardan faydalanabilecekler. Yarış ve organizasyon hakkında daha detaylı bilgilere web sitemizi ve sosyal medya hesaplarımızı takip ederek\, https://bit.ly/cuyy-wa linkinden WhatsApp duyuru grubuna katılarak ulaşabilirsiniz. \nTakvim / Yarış Programı\n\n01 Ekim 2026 – Kayıt Başlangıcı\n27 Ekim 2026 – Kayıtların Kapanışı\n28 Ekim 2026 – Basın Lansmanı – Skipper Brief\n29 Ekim 2026 – İstanbul Boğazı Fişekhane Etabı \n31 Ekim 2026 – Gezgin Adalar Parkuru Coğrafi Yarış\n31 Ekim 2026 – ORC sınıfları – Şamandıra Yarışları \n01 Kasım 2026 – Tüm Sınıflar – Adalar Parkuru Coğrafi Yarış\n01 Kasım 2026 – Cumhuriyet Kupası ve 2025 Trofesi Ödül Töreni Fişekhane\n\nRotalar:\nRota kartları ve detaylı bilgi için yayınlanacak yarış ilanlarını takipedebilirsiniz. \nYarış ilanı >>
URL:https://sailturkiye.racing/events/2026-cumhuriyet-kupasi/
LOCATION:İstanbu Türkiye\, İstanbul Boğazı\, Türkiye
CATEGORIES:Yarışlar
ATTACH;FMTTYPE=image/webp:https://sailturkiye.racing/wp-content/uploads/2024/04/yat-yarislari-4.webp
ORGANIZER;CN="iayk.org":MAILTO:info@iayk.org
END:VEVENT
BEGIN:VEVENT
DTSTART;VALUE=DATE:20261115
DTEND;VALUE=DATE:20261121
DTSTAMP:20260425T170448
CREATED:20250901T144107Z
LAST-MODIFIED:20260325T112029Z
UID:28161-1794700800-1795219199@sailturkiye.racing
SUMMARY:2026 Kıbrıs Kupası
DESCRIPTION:Cumhurbaşkanlığı 7. Uluslararası Yat Yarışları\n16-19 Kasım 2026 – Kıbrıs Kupası Açıkdeniz Yarışı\nKıbrıs Kupası\, 1 adet Marmaris – Girne açık deniz yarışından oluşmaktadır.  \nMarmaris – Girne açık deniz yarışı Marmaris Körfezinden 16 Kasım 2026 tarihinde başlayacak ve yarışın finişi Girne Liman açıklarına kurulacak finiş hattında alınacak.  \nORC\, IRC ve Gezgin sınıflarında kendi divizyonlarında ilk üçe giren ekiplere ödülleri 19 Kasım 2026 tarihinde Girne’de yapılacak ödül töreninde verilecektir. Marmaris – Girne Açıkdeniz yarışını ilk bitiren ekip Kıbrıs Kupası Line Honours\, en iyi düzeltilmiş zamana sahip ekip Best Corrected Time ödülünün sahibi olacaktır. \nYarışlar ORC\, IRC ve Gezgin sınıfları altında gerçekleştirilecektir. Yarışların açık olduğu kategoriler yarış ilanında duyurulacaktır. Yarışlara katılım ön koşulu olarak kayıt veren ekiplerin açık deniz yarışı teknik komitesinin onayını almalı ve herhangi bir STK’ya 2026 yılı içerisinde yaptıkları en az 5.000 TL tutarındaki bağışın makbuzunu ibraz etmeleri gerekmektedir. Yarış ve organizasyon hakkında daha detaylı bilgilere web sitemizi ve sosyal medya hesaplarımızı takip ederek\, https://bit.ly/cuyy-wa linkinden WhatsApp duyuru grubuna katılarak ulaşabilirsiniz. \nTakvim / Yarış Programı\n\n1 Ekim 2026 – Kayıt Başlangıcı\n14 Kasım 2026 – Kayıtların Kapanışı\n15 Kasım 2026 – Açılış Seremonisi / Skipper Brief\n16 Kasım 2026 – Marmaris – Girne Açıkdeniz Yarışı Startı\n19 Kasım 2026 – Açıkdeniz Yarışı Finişi Girne\n19 Kasım 2026 – Kıbrıs Kupası Açıkdeniz Yat Yarışı Ödül Töreni\n\nYarış ilanı >>
URL:https://sailturkiye.racing/events/2026-kibris-kupasi/
LOCATION:Marmaris – Girne\, Marmaris\, Muğla\, Türkiye
CATEGORIES:Yarışlar
ATTACH;FMTTYPE=image/jpeg:https://sailturkiye.racing/wp-content/uploads/2024/11/kibris.jpg
ORGANIZER;CN="iayk.org":MAILTO:info@iayk.org
END:VEVENT
END:VCALENDAR